BEGIN:VCALENDAR
VERSION:2.0
PRODID:-// - ECPv4.6.20.1//NONSGML v1.0//EN
CALSCALE:GREGORIAN
METHOD:PUBLISH
X-ORIGINAL-URL:http://brickkiwanis.com
X-WR-CALDESC:Events for 
BEGIN:VEVENT
DTSTART;TZID=America/New_York:20180706T190000
DTEND;TZID=America/New_York:20180706T203000
DTSTAMP:20260425T152549
CREATED:20180719T011002Z
LAST-MODIFIED:20180719T011002Z
UID:362-1530903600-1530909000@brickkiwanis.com
SUMMARY:Lakewood Elks Dinner
DESCRIPTION:
URL:http://brickkiwanis.com/event/lakewood-elks-dinner/
END:VEVENT
END:VCALENDAR