BEGIN:VCALENDAR
VERSION:2.0
PRODID:-// - ECPv4.6.20.1//NONSGML v1.0//EN
CALSCALE:GREGORIAN
METHOD:PUBLISH
X-ORIGINAL-URL:http://brickkiwanis.com
X-WR-CALDESC:Events for 
BEGIN:VEVENT
DTSTART;VALUE=DATE:20180819
DTEND;VALUE=DATE:20180820
DTSTAMP:20260425T134818
CREATED:20180823T234524Z
LAST-MODIFIED:20180823T234524Z
UID:373-1534636800-1534723199@brickkiwanis.com
SUMMARY:Brick Kiwanis Club to Volunteer at POAC’S Pirate And Princess Carnival
DESCRIPTION:
URL:http://brickkiwanis.com/event/brick-kiwanis-club-to-volunteer-at-poacs-pirate-and-princess-carnival/
END:VEVENT
END:VCALENDAR