BEGIN:VCALENDAR
VERSION:2.0
PRODID:-// - ECPv4.6.20.1//NONSGML v1.0//EN
CALSCALE:GREGORIAN
METHOD:PUBLISH
X-ORIGINAL-URL:http://brickkiwanis.com
X-WR-CALDESC:Events for 
BEGIN:VEVENT
DTSTART;VALUE=DATE:20180824
DTEND;VALUE=DATE:20180827
DTSTAMP:20260425T135539
CREATED:20180823T234611Z
LAST-MODIFIED:20180823T234611Z
UID:375-1535068800-1535327999@brickkiwanis.com
SUMMARY:DCON
DESCRIPTION:
URL:http://brickkiwanis.com/event/dcon/
END:VEVENT
END:VCALENDAR