BEGIN:VCALENDAR
VERSION:2.0
PRODID:-// - ECPv4.6.20.1//NONSGML v1.0//EN
CALSCALE:GREGORIAN
METHOD:PUBLISH
X-ORIGINAL-URL:http://brickkiwanis.com
X-WR-CALDESC:Events for 
BEGIN:VEVENT
DTSTART;VALUE=DATE:20180915
DTEND;VALUE=DATE:20180916
DTSTAMP:20260425T124527
CREATED:20180823T234658Z
LAST-MODIFIED:20180823T234658Z
UID:377-1536969600-1537055999@brickkiwanis.com
SUMMARY:Point Pleasant Beach Sea Food Festival
DESCRIPTION:
URL:http://brickkiwanis.com/event/point-pleasant-beach-sea-food-festival/
END:VEVENT
END:VCALENDAR