BEGIN:VCALENDAR
VERSION:2.0
PRODID:-// - ECPv4.6.20.1//NONSGML v1.0//EN
CALSCALE:GREGORIAN
METHOD:PUBLISH
X-ORIGINAL-URL:http://brickkiwanis.com
X-WR-CALDESC:Events for 
BEGIN:VEVENT
DTSTART;TZID=America/New_York:20181012T190000
DTEND;TZID=America/New_York:20181012T213000
DTSTAMP:20260425T110716
CREATED:20180823T233652Z
LAST-MODIFIED:20180823T233739Z
UID:366-1539370800-1539379800@brickkiwanis.com
SUMMARY:Paint & Sip’ Fundraiser
DESCRIPTION:Join us for a fun\, relaxing night of painting. \n\nNo artistic experience necessary\n$40 per person: includes water and dessert (BYOB)\n\nThe fun continues with a Gift Auction!\nPURCHASE TICKETS online at pinotspalette.com/brick or contact Nina at 732 233-3214 or Pam at 732 892-0246 \n
URL:http://brickkiwanis.com/event/paint-sip-fundraiser/
LOCATION:545 Brick Blvd\, Brick Township\, New Jersey\, 08723
ATTACH;FMTTYPE=image/png:http://brickkiwanis.com/wp-content/uploads/2018/08/Art.png
END:VEVENT
END:VCALENDAR