BEGIN:VCALENDAR
VERSION:2.0
PRODID:-// - ECPv4.6.20.1//NONSGML v1.0//EN
CALSCALE:GREGORIAN
METHOD:PUBLISH
X-ORIGINAL-URL:http://brickkiwanis.com
X-WR-CALDESC:Events for 
BEGIN:VEVENT
DTSTART;TZID=America/New_York:20181013T080000
DTEND;TZID=America/New_York:20181013T170000
DTSTAMP:20260425T105253
CREATED:20180823T235903Z
LAST-MODIFIED:20180823T235903Z
UID:383-1539417600-1539450000@brickkiwanis.com
SUMMARY:Arc walk
DESCRIPTION:Saturday\, October 13\, 2018 9:00 am – 12:00 pm \n
URL:http://brickkiwanis.com/event/arc-walk/
END:VEVENT
END:VCALENDAR