BEGIN:VCALENDAR
VERSION:2.0
PRODID:-// - ECPv4.6.20.1//NONSGML v1.0//EN
CALSCALE:GREGORIAN
METHOD:PUBLISH
X-ORIGINAL-URL:http://brickkiwanis.com
X-WR-CALDESC:Events for 
BEGIN:VEVENT
DTSTART;VALUE=DATE:20181019
DTEND;VALUE=DATE:20181020
DTSTAMP:20260425T105751
CREATED:20180824T000011Z
LAST-MODIFIED:20180824T000011Z
UID:386-1539907200-1539993599@brickkiwanis.com
SUMMARY:Trunk or  Treat
DESCRIPTION:
URL:http://brickkiwanis.com/event/trunk-or-treat/
END:VEVENT
END:VCALENDAR