BEGIN:VCALENDAR
VERSION:2.0
PRODID:-// - ECPv4.6.20.1//NONSGML v1.0//EN
CALSCALE:GREGORIAN
METHOD:PUBLISH
X-ORIGINAL-URL:http://brickkiwanis.com
X-WR-CALDESC:Events for 
BEGIN:VEVENT
DTSTART;TZID=America/New_York:20190406T190000
DTEND;TZID=America/New_York:20190406T213000
DTSTAMP:20260425T024116
CREATED:20180824T000224Z
LAST-MODIFIED:20190517T230048Z
UID:390-1554577200-1554586200@brickkiwanis.com
SUMMARY:Pocketbook Bingo
DESCRIPTION:\nOn Saturday April 6\, 2019\, the Brick Kiwanis (Key Club) will be hosting a Designer Bag Bingo & Gift Auction. Try your luck at winning a “DESIGNER HANDBAG” at BINGO\, 50/50 BINGO GAME or maybe a gift from our MINI GIFT AUCTION!! Play bingo and have a chance to win a beautiful\, authentic designer handbag – Coach\, Kate Spade or Michael Kors! Each round of bingo has a corresponding handbag for a prize or possibly be a cash winner of the 50/50 BINGO GAME or maybe a gift from our MINI GIFT AUCTION! Details and tickets https://www.eventbrite.com/e/brick-kiwanis-club-dessert-designer-handbag-bingo-gift-auction-tickets-57947178571 \n
URL:http://brickkiwanis.com/event/pocketbook-bingo/
END:VEVENT
END:VCALENDAR