BEGIN:VCALENDAR
VERSION:2.0
PRODID:-// - ECPv4.6.20.1//NONSGML v1.0//EN
CALSCALE:GREGORIAN
METHOD:PUBLISH
X-ORIGINAL-URL:http://brickkiwanis.com
X-WR-CALDESC:Events for 
BEGIN:VEVENT
DTSTART;TZID=America/New_York:20190801T070000
DTEND;TZID=America/New_York:20190801T213000
DTSTAMP:20260424T221818
CREATED:20190517T234845Z
LAST-MODIFIED:20190517T235837Z
UID:474-1564642800-1564695000@brickkiwanis.com
SUMMARY:Pizza\, Cruise & Fireworks
DESCRIPTION:Join use for a fun night on the River Belle!  \n
URL:http://brickkiwanis.com/event/pizza-cruise-fireworks-2/
CATEGORIES:Family Fun Fundraiser
END:VEVENT
END:VCALENDAR