BEGIN:VCALENDAR
VERSION:2.0
PRODID:-// - ECPv4.6.20.1//NONSGML v1.0//EN
CALSCALE:GREGORIAN
METHOD:PUBLISH
X-ORIGINAL-URL:http://brickkiwanis.com
X-WR-CALDESC:Events for 
BEGIN:VEVENT
DTSTART;TZID=America/New_York:20210520T184500
DTEND;TZID=America/New_York:20210520T203000
DTSTAMP:20260423T153427
CREATED:20210514T232729Z
LAST-MODIFIED:20210514T232729Z
UID:703-1621536300-1621542600@brickkiwanis.com
SUMMARY:The Kiwanis Club of Brick Meeting
DESCRIPTION: \nThe Kiwanis Club of Brick meets on the first and third Thursdays of the month.\nNew members are welcome. Join us! \n\n    Notice: JavaScript is required for this content.\n\n    \n\n\n        \n	var formDisplay=1;var nfForms=nfForms||[];var form=[];form.id='1';form.settings={"objectType":"Form Setting"\,"editActive":true\,"title":"Contact Form"\,"key":null\,"created_at":"2016-03-16 20:27:29"\,"show_title":"1"\,"clear_complete":"1"\,"hide_complete":"1"\,"currency":"usd"\,"add_submit":"1"\,"logged_in":"0"\,"default_label_pos":"above"\,"wrapper_class":""\,"element_class":""\,"not_logged_in_msg":""\,"sub_limit_number":null\,"sub_limit_msg":""\,"calculations":[]\,"fieldContentsData":[{"label":"Name"\,"key":"name"\,"parent_id":1\,"type":"textbox"\,"created_at":"2016-03-16 20:27:29"\,"objectType":"Field"\,"objectDomain":"fields"\,"editActive":false\,"label_pos":"above"\,"required":1\,"placeholder":""\,"default":""\,"wrapper_class":""\,"element_class":""\,"input_limit":""\,"input_limit_type":"characters"\,"input_limit_message":"Character(s) left"\,"manual_key":""\,"disable_input":""\,"admin_label":""\,"help_text":""\,"desc_text":""\,"desc_pos":""\,"disable_browser_autocomplete":""\,"mask":""\,"custom_mask":""\,"order":1\,"container_class":""\,"input_limit_msg":"Character(s) left"\,"id":1}\,{"label":"Email"\,"key":"email"\,"parent_id":1\,"type":"email"\,"created_at":"2016-03-16 20:27:29"\,"objectType":"Field"\,"objectDomain":"fields"\,"editActive":false\,"label_pos":"above"\,"required":1\,"default":""\,"placeholder":""\,"wrapper_class":""\,"element_class":""\,"admin_label":""\,"help_text":""\,"desc_text":""\,"desc_pos":""\,"order":2\,"container_class":""\,"id":2}\,{"label":"Message"\,"key":"message"\,"parent_id":1\,"type":"textarea"\,"created_at":"2016-03-16 20:27:29"\,"objectType":"Field"\,"objectDomain":"fields"\,"editActive":false\,"label_pos":"above"\,"required":1\,"placeholder":""\,"default":""\,"wrapper_class":""\,"element_class":""\,"input_limit":""\,"input_limit_type":"characters"\,"input_limit_message":"Character(s) left"\,"manual_key":""\,"disable_input":""\,"admin_label":""\,"help_text":""\,"desc_text":""\,"desc_pos":""\,"disable_browser_autocomplete":""\,"textarea_rte":""\,"disable_rte_mobile":""\,"textarea_media":""\,"order":3\,"container_class":""\,"input_limit_msg":"Character(s) left"\,"id":3}\,{"label":"What is thirteen minus 6?"\,"key":"spam_1"\,"parent_id":1\,"type":"spam"\,"created_at":"2016-03-16 20:27:29"\,"objectType":"Field"\,"objectDomain":"fields"\,"editActive":false\,"label_pos":"above"\,"required":1\,"placeholder":""\,"default":""\,"wrapper_class":""\,"element_class":""\,"input_limit":""\,"input_limit_type":"characters"\,"input_limit_message":"Character(s) left"\,"manual_key":1\,"disable_input":""\,"admin_label":""\,"help_text":""\,"desc_text":""\,"desc_pos":""\,"spam_answer":7\,"order":4\,"container_class":""\,"input_limit_msg":"Character(s) left"\,"id":4}\,{"label":"Send"\,"key":"send"\,"parent_id":1\,"type":"submit"\,"created_at":"2016-03-16 20:27:29"\,"objectType":"Field"\,"objectDomain":"fields"\,"editActive":false\,"processing_label":"Processing"\,"wrapper_class":""\,"element_class":""\,"order":5\,"container_class":""\,"id":5}]\,"formContentData":["name"\,"email_1484329755313"\,"area_of_interest_check_all_that_apply_1719323787015"\,"message_if_rsvping_for_an_event_please_let_us_know_how_many_will_attend_1719323882253"\,"spam_1484329757987"\,"send"]\,"unique_field_error":"A form with this value has already been submitted."\,"ninjaForms":"Ninja Forms"\,"changeEmailErrorMsg":"Please enter a valid email address!"\,"confirmFieldErrorMsg":"These fields must match!"\,"fieldNumberNumMinError":"Number Min Error"\,"fieldNumberNumMaxError":"Number Max Error"\,"fieldNumberIncrementBy":"Please increment by "\,"fieldTextareaRTEInsertLink":"Insert Link"\,"fieldTextareaRTEInsertMedia":"Insert Media"\,"fieldTextareaRTESelectAFile":"Select a file"\,"formErrorsCorrectErrors":"Please correct errors before submitting this form."\,"validateRequiredField":"This is a required field."\,"honeypotHoneypotError":"Honeypot Error"\,"fileUploadOldCodeFileUploadInProgress":"File Upload in Progress."\,"fileUploadOldCodeFileUpload":"FILE UPLOAD"\,"currencySymbol":"$"\,"fieldsMarkedRequired":"Fields marked with an * are required"\,"thousands_sep":"\,"\,"decimal_point":"."\,"dateFormat":"d\/m\/Y"\,"startOfWeek":"0"\,"currency_symbol":""\,"beforeForm":""\,"beforeFields":""\,"afterFields":""\,"afterForm":""};form.fields=[{"objectType":"Field"\,"objectDomain":"fields"\,"editActive":false\,"order":1\,"type":"textbox"\,"label":"Name"\,"key":"name"\,"label_pos":"above"\,"required":1\,"input_limit_type":"characters"\,"input_limit_msg":"Character(s) left"\,"manual_key":false\,"default":""\,"placeholder":""\,"container_class":""\,"element_class":""\,"input_limit":""\,"disable_input":""\,"admin_label":""\,"help_text":""\,"desc_text":""\,"disable_browser_autocomplete":""\,"mask":""\,"custom_mask":""\,"id":12\,"beforeField":""\,"afterField":""\,"parentType":"textbox"\,"element_templates":["textbox"\,"input"]\,"old_classname":""\,"wrap_template":"wrap"}\,{"objectType":"Field"\,"objectDomain":"fields"\,"editActive":false\,"order":2\,"type":"email"\,"label":"Email"\,"key":"email_1484329755313"\,"label_pos":"above"\,"required":1\,"default":""\,"placeholder":""\,"container_class":""\,"element_class":""\,"admin_label":""\,"help_text":""\,"desc_text":""\,"drawerDisabled":false\,"id":13\,"beforeField":""\,"afterField":""\,"parentType":"email"\,"element_templates":["email"\,"input"]\,"old_classname":""\,"wrap_template":"wrap"}\,{"objectType":"Field"\,"objectDomain":"fields"\,"editActive":false\,"order":3\,"type":"listcheckbox"\,"label":"Area of Interest (check all that apply)"\,"key":"area_of_interest_check_all_that_apply_1719323787015"\,"label_pos":"above"\,"required":false\,"options":[{"errors":[]\,"max_options":0\,"order":2\,"new":false\,"options":[]\,"label":"Meeting\, November 5"\,"value":"Meeting\, November 5"\,"calc":""\,"selected":0\,"settingModel":{"settings":false\,"hide_merge_tags":false\,"error":false\,"name":"options"\,"type":"option-repeater"\,"label":"Options Add New  Import"\,"width":"full"\,"group":""\,"value":[{"label":"One"\,"value":"one"\,"calc":""\,"selected":0\,"order":0}\,{"label":"Two"\,"value":"two"\,"calc":""\,"selected":0\,"order":1}\,{"label":"Three"\,"value":"three"\,"calc":""\,"selected":0\,"order":2}]\,"columns":{"label":{"header":"Label"\,"default":""}\,"value":{"header":"Value"\,"default":""}\,"calc":{"header":"Calc Value"\,"default":""}\,"selected":{"header":""\,"default":0}}}\,"manual_value":true}\,{"errors":[]\,"max_options":0\,"order":3\,"new":false\,"options":[]\,"label":"Meeting\, December 10"\,"value":"Meeting\, December 10"\,"calc":""\,"selected":0\,"settingModel":{"settings":false\,"hide_merge_tags":false\,"error":false\,"name":"options"\,"type":"option-repeater"\,"label":"Options Add New  Import"\,"width":"full"\,"group":""\,"value":[{"label":"One"\,"value":"one"\,"calc":""\,"selected":0\,"order":0}\,{"label":"Two"\,"value":"two"\,"calc":""\,"selected":0\,"order":1}\,{"label":"Three"\,"value":"three"\,"calc":""\,"selected":0\,"order":2}]\,"columns":{"label":{"header":"Label"\,"default":""}\,"value":{"header":"Value"\,"default":""}\,"calc":{"header":"Calc Value"\,"default":""}\,"selected":{"header":""\,"default":0}}}\,"manual_value":true}\,{"errors":[]\,"max_options":0\,"order":6\,"new":false\,"options":[]\,"label":"Pay It Forward Dinner - November 12"\,"value":"Pay It Forward Dinner - November 12"\,"calc":""\,"selected":0\,"settingModel":{"settings":false\,"hide_merge_tags":false\,"error":false\,"name":"options"\,"type":"option-repeater"\,"label":"Options Add New  Import"\,"width":"full"\,"group":""\,"value":[{"label":"One"\,"value":"one"\,"calc":""\,"selected":0\,"order":0}\,{"label":"Two"\,"value":"two"\,"calc":""\,"selected":0\,"order":1}\,{"label":"Three"\,"value":"three"\,"calc":""\,"selected":0\,"order":2}]\,"columns":{"label":{"header":"Label"\,"default":""}\,"value":{"header":"Value"\,"default":""}\,"calc":{"header":"Calc Value"\,"default":""}\,"selected":{"header":""\,"default":0}}}\,"manual_value":true}\,{"errors":[]\,"max_options":0\,"order":7\,"new":false\,"options":[]\,"label":"Become a Member"\,"value":"Become a Member"\,"calc":""\,"selected":0\,"settingModel":{"settings":false\,"hide_merge_tags":false\,"error":false\,"name":"options"\,"type":"option-repeater"\,"label":"Options Add New  Import"\,"width":"full"\,"group":""\,"value":[{"label":"One"\,"value":"one"\,"calc":""\,"selected":0\,"order":0}\,{"label":"Two"\,"value":"two"\,"calc":""\,"selected":0\,"order":1}\,{"label":"Three"\,"value":"three"\,"calc":""\,"selected":0\,"order":2}]\,"columns":{"label":{"header":"Label"\,"default":""}\,"value":{"header":"Value"\,"default":""}\,"calc":{"header":"Calc Value"\,"default":""}\,"selected":{"header":""\,"default":0}}}\,"manual_value":true}]\,"container_class":""\,"element_class":""\,"admin_label":""\,"help_text":""\,"desc_text":""\,"drawerDisabled":false\,"id":40\,"beforeField":""\,"afterField":""\,"parentType":"list"\,"element_templates":["listcheckbox"\,"input"]\,"old_classname":"list-checkbox"\,"wrap_template":"wrap"}\,{"objectType":"Field"\,"objectDomain":"fields"\,"editActive":false\,"order":4\,"type":"textarea"\,"label":"Message (If RSVPing for an event\, please let us know how many will attend)"\,"key":"message_if_rsvping_for_an_event_please_let_us_know_how_many_will_attend_1719323882253"\,"label_pos":"above"\,"required":1\,"input_limit_type":"characters"\,"input_limit_msg":"Character(s) left"\,"manual_key":false\,"default":""\,"placeholder":""\,"container_class":""\,"element_class":""\,"input_limit":""\,"disable_input":""\,"admin_label":""\,"help_text":""\,"desc_text":""\,"disable_browser_autocomplete":""\,"textarea_rte":""\,"disable_rte_mobile":""\,"textarea_media":""\,"id":14\,"beforeField":""\,"afterField":""\,"parentType":"textarea"\,"element_templates":["textarea"\,"input"]\,"old_classname":""\,"wrap_template":"wrap"}\,{"objectType":"Field"\,"objectDomain":"fields"\,"editActive":false\,"order":5\,"type":"spam"\,"label":"What is thirteen minus 6?"\,"key":"spam_1484329757987"\,"label_pos":"above"\,"required":1\,"input_limit_type":"characters"\,"input_limit_msg":"Character(s) left"\,"manual_key":true\,"spam_answer":7\,"default":""\,"placeholder":""\,"container_class":""\,"element_class":""\,"input_limit":""\,"disable_input":""\,"admin_label":""\,"help_text":""\,"desc_text":""\,"drawerDisabled":false\,"id":15\,"beforeField":""\,"afterField":""\,"parentType":"spam"\,"element_templates":["textbox"\,"input"]\,"old_classname":""\,"wrap_template":"wrap"}\,{"objectType":"Field"\,"objectDomain":"fields"\,"editActive":false\,"order":6\,"type":"submit"\,"label":"Send"\,"processing_label":"Sending ..."\,"key":"send"\,"container_class":""\,"element_class":""\,"drawerDisabled":false\,"id":16\,"beforeField":""\,"afterField":""\,"label_pos":"above"\,"parentType":"textbox"\,"element_templates":["submit"\,"button"\,"input"]\,"old_classname":""\,"wrap_template":"wrap-no-label"}];nfForms.push(form);\n        \n  \n
URL:http://brickkiwanis.com/event/the-kiwanis-club-of-brick-meeting/
LOCATION:1490 State Highway 88\, Brick Township\, New Jersey\, 08724
CATEGORIES:Meeting
END:VEVENT
END:VCALENDAR