BEGIN:VCALENDAR
VERSION:2.0
PRODID:-// - ECPv4.6.20.1//NONSGML v1.0//EN
CALSCALE:GREGORIAN
METHOD:PUBLISH
X-ORIGINAL-URL:http://brickkiwanis.com
X-WR-CALDESC:Events for 
BEGIN:VEVENT
DTSTART;TZID=America/New_York:20211104T184500
DTEND;TZID=America/New_York:20211104T203000
DTSTAMP:20260423T060337
CREATED:20211011T002556Z
LAST-MODIFIED:20211011T002556Z
UID:747-1636051500-1636057800@brickkiwanis.com
SUMMARY:The Kiwanis Club of Brick Meeting
DESCRIPTION:The Brick Kiwanis Club meets on the first and third Thursdays of the month at Tuscany Bar and Restaurant in Brick\, NJ. New members are welcome. Join us! \n
URL:http://brickkiwanis.com/event/the-kiwanis-club-of-brick-meeting-3/
LOCATION:1490 State Highway 88\, Brick Township\, New Jersey\, 08724
CATEGORIES:Meeting
END:VEVENT
END:VCALENDAR