BEGIN:VCALENDAR
VERSION:2.0
PRODID:-// - ECPv4.6.20.1//NONSGML v1.0//EN
CALSCALE:GREGORIAN
METHOD:PUBLISH
X-ORIGINAL-URL:http://brickkiwanis.com
X-WR-CALDESC:Events for 
BEGIN:VEVENT
DTSTART;TZID=America/New_York:20211204T140000
DTEND;TZID=America/New_York:20211204T153000
DTSTAMP:20260423T042923
CREATED:20211011T002559Z
LAST-MODIFIED:20211120T154610Z
UID:752-1638626400-1638631800@brickkiwanis.com
SUMMARY:Kid's Holiday Candy Making Class
DESCRIPTION:Holiday candy making class for kids 4 and older. Only $15. Proceeds go to scholarships for Brick and Point Pleasant High School students. Space is limited. Space is limited\, and registration is required. Register at http://brickkiwanis.com/candy \n \n
URL:http://brickkiwanis.com/event/kids-holiday-candy-making-class/
LOCATION:249 Chambersbridge Rd\,\, Brick Township\, NJ\, 08723\, United States
CATEGORIES:Fundraiser,Holiday Party,Kids' Event
END:VEVENT
END:VCALENDAR