BEGIN:VCALENDAR
VERSION:2.0
PRODID:-// - ECPv4.6.20.1//NONSGML v1.0//EN
CALSCALE:GREGORIAN
METHOD:PUBLISH
X-ORIGINAL-URL:http://brickkiwanis.com
X-WR-CALDESC:Events for 
BEGIN:VEVENT
DTSTART;TZID=America/New_York:20220212T150000
DTEND;TZID=America/New_York:20220212T150000
DTSTAMP:20260423T013208
CREATED:20211011T002559Z
LAST-MODIFIED:20220203T010056Z
UID:753-1644678000-1644678000@brickkiwanis.com
SUMMARY:Galentine's Day Fundraiser
DESCRIPTION:Bring a friend to celebrate Galentine’s day\, enjoy wine and chocolate pairings while painting a summer beach scene and supporting local high school students.\nGift auction and more!\nAll profits from this event go to scholarships for Brick and Point Pleasant Beach High School students. \n \n
URL:http://brickkiwanis.com/event/the-kiwanis-club-of-bricks-galentines-day-fundraiser/
CATEGORIES:Fundraiser
END:VEVENT
END:VCALENDAR